BEGIN:VCALENDAR
VERSION:2.0
PRODID:-//Exploradôme - ECPv6.15.20//NONSGML v1.0//EN
CALSCALE:GREGORIAN
METHOD:PUBLISH
X-WR-CALNAME:Exploradôme
X-ORIGINAL-URL:https://www.exploradome.fr
X-WR-CALDESC:Évènements pour Exploradôme
REFRESH-INTERVAL;VALUE=DURATION:PT1H
X-Robots-Tag:noindex
X-PUBLISHED-TTL:PT1H
BEGIN:VTIMEZONE
TZID:Europe/Paris
BEGIN:DAYLIGHT
TZOFFSETFROM:+0100
TZOFFSETTO:+0200
TZNAME:CEST
DTSTART:20240331T010000
END:DAYLIGHT
BEGIN:STANDARD
TZOFFSETFROM:+0200
TZOFFSETTO:+0100
TZNAME:CET
DTSTART:20241027T010000
END:STANDARD
BEGIN:DAYLIGHT
TZOFFSETFROM:+0100
TZOFFSETTO:+0200
TZNAME:CEST
DTSTART:20250330T010000
END:DAYLIGHT
BEGIN:STANDARD
TZOFFSETFROM:+0200
TZOFFSETTO:+0100
TZNAME:CET
DTSTART:20251026T010000
END:STANDARD
BEGIN:DAYLIGHT
TZOFFSETFROM:+0100
TZOFFSETTO:+0200
TZNAME:CEST
DTSTART:20260329T010000
END:DAYLIGHT
BEGIN:STANDARD
TZOFFSETFROM:+0200
TZOFFSETTO:+0100
TZNAME:CET
DTSTART:20261025T010000
END:STANDARD
END:VTIMEZONE
BEGIN:VEVENT
DTSTART;TZID=Europe/Paris:20250415T140000
DTEND;TZID=Europe/Paris:20250415T160000
DTSTAMP:20260421T110213
CREATED:20250414T151334Z
LAST-MODIFIED:20250414T200144Z
UID:11140-1744725600-1744732800@www.exploradome.fr
SUMMARY:A la découverte de l’espace : voyage à travers le système solaire
DESCRIPTION:Embarquez pour un voyage interactif à travers l’espace\, rempli d’énigmes et d’expériences fascinantes. Découvrez comment le jour et la nuit se succèdent\, pourquoi les saisons changent et partez à la découverte des profondeurs de notre système solaire. Description de l’atelierAu cours de cet atelier\, vous plongerez dans l’exploration des mystères du système solaire. Vous apprendrez comment s’alternent le jour\, la nuit et les saisons grâce à des expériences interactives. Ensuite\, vous percerez les secrets des planètes\, comprendrez leurs particularités et observerez la Lune sous un tout nouveau jour. En fin de parcours\, vous repartirez avec un carnet d’exploration pour continuer cette passionnante aventure spatiale chez vous ! Les compétences et thématiques abordéesComprendre les phénomènes astronomiques : alternance jour/nuit et saisonsExplorer les planètes et leurs caractéristiquesStimuler la curiosité scientifique des enfants à travers des énigmes et des expériences 
URL:https://www.exploradome.fr/evenement/a-la-decouverte-de-lespace-voyage-a-travers-le-systeme-solaire/
CATEGORIES:Vacances
ATTACH;FMTTYPE=image/png:https://www.exploradome.fr/wp-content/uploads/2025/04/systeme-solaire.png
END:VEVENT
END:VCALENDAR