BEGIN:VCALENDAR
VERSION:2.0
PRODID:-//Exploradôme - ECPv6.15.20//NONSGML v1.0//EN
CALSCALE:GREGORIAN
METHOD:PUBLISH
X-WR-CALNAME:Exploradôme
X-ORIGINAL-URL:https://www.exploradome.fr
X-WR-CALDESC:Évènements pour Exploradôme
REFRESH-INTERVAL;VALUE=DURATION:PT1H
X-Robots-Tag:noindex
X-PUBLISHED-TTL:PT1H
BEGIN:VTIMEZONE
TZID:Europe/Paris
BEGIN:DAYLIGHT
TZOFFSETFROM:+0100
TZOFFSETTO:+0200
TZNAME:CEST
DTSTART:20240331T010000
END:DAYLIGHT
BEGIN:STANDARD
TZOFFSETFROM:+0200
TZOFFSETTO:+0100
TZNAME:CET
DTSTART:20241027T010000
END:STANDARD
BEGIN:DAYLIGHT
TZOFFSETFROM:+0100
TZOFFSETTO:+0200
TZNAME:CEST
DTSTART:20250330T010000
END:DAYLIGHT
BEGIN:STANDARD
TZOFFSETFROM:+0200
TZOFFSETTO:+0100
TZNAME:CET
DTSTART:20251026T010000
END:STANDARD
BEGIN:DAYLIGHT
TZOFFSETFROM:+0100
TZOFFSETTO:+0200
TZNAME:CEST
DTSTART:20260329T010000
END:DAYLIGHT
BEGIN:STANDARD
TZOFFSETFROM:+0200
TZOFFSETTO:+0100
TZNAME:CET
DTSTART:20261025T010000
END:STANDARD
END:VTIMEZONE
BEGIN:VEVENT
DTSTART;TZID=Europe/Paris:20251230T151500
DTEND;TZID=Europe/Paris:20251230T161500
DTSTAMP:20260420T212734
CREATED:20251124T110356Z
LAST-MODIFIED:20251124T110356Z
UID:12475-1767107700-1767111300@www.exploradome.fr
SUMMARY:Des illusions plein les yeux
DESCRIPTION:Viens jouer avec des illusions d’optique et découvre comment tes yeux peuvent parfois te jouer des tours. \n\n\n\nDescription de l’atelier\nÀ travers des expériences ludiques sur les trompe-l’œil et illusions\, vous découvrirez comment les yeux peuvent nous jouer des tours. \n  \nCompétences et thématiques abordées :\n\nComprendre les bases des illusions d’optique\nExplorer la relation entre perception visuelle\, cerveau et réalité\nStimuler la créativité en réalisant des objets interactifs\nFavoriser l’apprentissage ludique par l’expérimentation et la création d’objets\n\nInformations pratiques\n\nÂge : 4-6 ans\nDurée : 1 heure\nTarif : 11 €\n\nInscription en ligne\n  \nCet atelier est accessible aux enfants\, adolescents et adultes\, et peut se faire en famille. \nLes ateliers peuvent se faire avec ou sans accompagnateurs. \nLes personnes souhaitant accompagner les enfants doivent acheter un billet pour l’atelier. \nConditions de vente\nPour toute question concernant les conditions de remboursement\, les forfaits 8/16 activités ou le paiement des accompagnateurs\, merci de consulter nos conditions de vente.
URL:https://www.exploradome.fr/evenement/des-illusions-plein-les-yeux-2/
END:VEVENT
END:VCALENDAR