BEGIN:VCALENDAR
VERSION:2.0
PRODID:-//Exploradôme - ECPv6.15.20//NONSGML v1.0//EN
CALSCALE:GREGORIAN
METHOD:PUBLISH
X-WR-CALNAME:Exploradôme
X-ORIGINAL-URL:https://www.exploradome.fr
X-WR-CALDESC:Évènements pour Exploradôme
REFRESH-INTERVAL;VALUE=DURATION:PT1H
X-Robots-Tag:noindex
X-PUBLISHED-TTL:PT1H
BEGIN:VTIMEZONE
TZID:Europe/Paris
BEGIN:DAYLIGHT
TZOFFSETFROM:+0100
TZOFFSETTO:+0200
TZNAME:CEST
DTSTART:20240331T010000
END:DAYLIGHT
BEGIN:STANDARD
TZOFFSETFROM:+0200
TZOFFSETTO:+0100
TZNAME:CET
DTSTART:20241027T010000
END:STANDARD
BEGIN:DAYLIGHT
TZOFFSETFROM:+0100
TZOFFSETTO:+0200
TZNAME:CEST
DTSTART:20250330T010000
END:DAYLIGHT
BEGIN:STANDARD
TZOFFSETFROM:+0200
TZOFFSETTO:+0100
TZNAME:CET
DTSTART:20251026T010000
END:STANDARD
BEGIN:DAYLIGHT
TZOFFSETFROM:+0100
TZOFFSETTO:+0200
TZNAME:CEST
DTSTART:20260329T010000
END:DAYLIGHT
BEGIN:STANDARD
TZOFFSETFROM:+0200
TZOFFSETTO:+0100
TZNAME:CET
DTSTART:20261025T010000
END:STANDARD
END:VTIMEZONE
BEGIN:VEVENT
DTSTART;TZID=Europe/Paris:20251025T141500
DTEND;TZID=Europe/Paris:20251025T161500
DTSTAMP:20260421T135250
CREATED:20251016T074513Z
LAST-MODIFIED:20251016T074605Z
UID:12341-1761401700-1761408900@www.exploradome.fr
SUMMARY:CUISINE MOLÉCULAIRE : Quand la science s'invite en cuisine !
DESCRIPTION:Dans les coulisses de l’audiovisuel ! Organiser des clips\, insérer des titres\, créer des transitions avec du son : il n’y a pas que derrière la caméra qu’on fait du cinéma ! Dès 8 ans
URL:https://www.exploradome.fr/evenement/cuisine-moleculaire-quand-la-science-sinvite-en-cuisine-2/
END:VEVENT
END:VCALENDAR